OziExplorer Map Data File Version 2.2
V_tatry_topo.gif
C:\Slovakia\v_tatry_topo.gif
1 ,Map Code,
WGS 84,WGS 84, 0.0000, 0.0000,WGS 84
Reserved 1
Reserved 2
Magnetic Variation,,,E
Map Projection,Transverse Mercator,PolyCal,No,AutoCalOnly,No,BSBUseWPX,No
Point01,xy, 164, 179,in, deg, 49, 21,N, 19, 57,E, grid, , , ,N
Point02,xy, 1597, 177,in, deg, 49, 21,N, 20, 07,E, grid, , , ,N
Point03,xy, 3317, 170,in, deg, 49, 21,N, 20, 19,E, grid, , , ,N
Point04,xy, 165, 2585,in, deg, 49, 10,N, 19, 57,E, grid, , , ,N
Point05,xy, 1603, 2582,in, deg, 49, 10,N, 20, 07,E, grid, , , ,N
Point06,xy, 3330, 2576,in, deg, 49, 10,N, 20, 19,E, grid, , , ,N
Point07,xy, 166, 4335,in, deg, 49, 02,N, 19, 57,E, grid, , , ,N
Point08,xy, 1608, 4332,in, deg, 49, 02,N, 20, 07,E, grid, , , ,N
Point09,xy, 3338, 4326,in, deg, 49, 02,N, 20, 19,E, grid, , , ,N
Point10,xy, , ,in, deg, , ,, , ,, grid, , , ,
Point11,xy, , ,in, deg, , ,, , ,, grid, , , ,
Point12,xy, , ,in, deg, , ,, , ,, grid, , , ,
Point13,xy, , ,in, deg, , ,, , ,, grid, , , ,
Point14,xy, , ,in, deg, , ,, , ,, grid, , , ,
Point15,xy, , ,in, deg, , ,, , ,, grid, , , ,
Point16,xy, , ,in, deg, , ,, , ,, grid, , , ,
Point17,xy, , ,in, deg, , ,, , ,, grid, , , ,
Point18,xy, , ,in, deg, , ,, , ,, grid, , , ,
Point19,xy, , ,in, deg, , ,, , ,, grid, , , ,
Point20,xy, , ,in, deg, , ,, , ,, grid, , , ,
Point21,xy, , ,in, deg, , ,, , ,, grid, , , ,
Point22,xy, , ,in, deg, , ,, , ,, grid, , , ,
Point23,xy, , ,in, deg, , ,, , ,, grid, , , ,
Point24,xy, , ,in, deg, , ,, , ,, grid, , , ,
Point25,xy, , ,in, deg, , ,, , ,, grid, , , ,
Point26,xy, , ,in, deg, , ,, , ,, grid, , , ,
Point27,xy, , ,in, deg, , ,, , ,, grid, , , ,
Point28,xy, , ,in, deg, , ,, , ,, grid, , , ,
Point29,xy, , ,in, deg, , ,, , ,, grid, , , ,
Point30,xy, , ,in, deg, , ,, , ,, grid, , , ,
Projection Setup, 0.000000000, 21.000000000, 1.000000000, 500000.00, 0.00,,,,,
Map Feature = MF ; Map Comment = MC These follow if they exist
Track File = TF These follow if they exist
Moving Map Parameters = MM? These follow if they exist
MM0,Yes
MMPNUM,4
MMPXY,1,0,0
MMPXY,2,3510,0
MMPXY,3,3510,4580
MMPXY,4,0,4580
MMPLL,1, 19.930916, 49.363636
MMPLL,2, 20.339242, 49.362880
MMPLL,3, 20.336315, 49.013875
MMPLL,4, 19.930852, 49.014643
MM1B,8.446358
MOP,Map Open Position,0,0
IWH,Map Image Width/Height,3510,4580
