OziExplorer Map Data File Version 2.2
Slovenskj_raj_topo.gif
C:\Slovakia\slovenskj_raj_topo.gif
1 ,Map Code,
WGS 84,WGS 84, 0.0000, 0.0000,WGS 84
Reserved 1
Reserved 2
Magnetic Variation,,,E
Map Projection,Transverse Mercator,PolyCal,No,AutoCalOnly,No,BSBUseWPX,No
Point01,xy, 522, 287,in, deg, 49, 00,N, 20, 15,E, grid, , , ,N
Point02,xy, 1280, 287,in, deg, 49, 00,N, 20, 20,E, grid, , , ,N
Point03,xy, 2797, 283,in, deg, 49, 00,N, 20, 30,E, grid, , , ,N
Point04,xy, 522, 1440,in, deg, 48, 55,N, 20, 15,E, grid, , , ,N
Point05,xy, 2041, 1438,in, deg, 48, 55,N, 20, 25,E, grid, , , ,N
Point06,xy, 2801, 1436,in, deg, 48, 55,N, 20, 30,E, grid, , , ,N
Point07,xy, 522, 2592,in, deg, 48, 50,N, 20, 15,E, grid, , , ,N
Point08,xy, 1283, 2592,in, deg, 48, 50,N, 20, 20,E, grid, , , ,N
Point09,xy, 2805, 2589,in, deg, 48, 50,N, 20, 30,E, grid, , , ,N
Point10,xy, , ,in, deg, , ,, , ,, grid, , , ,
Point11,xy, , ,in, deg, , ,, , ,, grid, , , ,
Point12,xy, , ,in, deg, , ,, , ,, grid, , , ,
Point13,xy, , ,in, deg, , ,, , ,, grid, , , ,
Point14,xy, , ,in, deg, , ,, , ,, grid, , , ,
Point15,xy, , ,in, deg, , ,, , ,, grid, , , ,
Point16,xy, , ,in, deg, , ,, , ,, grid, , , ,
Point17,xy, , ,in, deg, , ,, , ,, grid, , , ,
Point18,xy, , ,in, deg, , ,, , ,, grid, , , ,
Point19,xy, , ,in, deg, , ,, , ,, grid, , , ,
Point20,xy, , ,in, deg, , ,, , ,, grid, , , ,
Point21,xy, , ,in, deg, , ,, , ,, grid, , , ,
Point22,xy, , ,in, deg, , ,, , ,, grid, , , ,
Point23,xy, , ,in, deg, , ,, , ,, grid, , , ,
Point24,xy, , ,in, deg, , ,, , ,, grid, , , ,
Point25,xy, , ,in, deg, , ,, , ,, grid, , , ,
Point26,xy, , ,in, deg, , ,, , ,, grid, , , ,
Point27,xy, , ,in, deg, , ,, , ,, grid, , , ,
Point28,xy, , ,in, deg, , ,, , ,, grid, , , ,
Point29,xy, , ,in, deg, , ,, , ,, grid, , , ,
Point30,xy, , ,in, deg, , ,, , ,, grid, , , ,
Projection Setup, 0.000000000, 21.000000000, 1.000000000, 500000.00, 0.00,,,,,
Map Feature = MF ; Map Comment = MC These follow if they exist
Track File = TF These follow if they exist
Moving Map Parameters = MM? These follow if they exist
MM0,Yes
MMPNUM,4
MMPXY,1,0,0
MMPXY,2,3505,0
MMPXY,3,3505,3138
MMPXY,4,0,3138
MMPLL,1, 20.192647, 49.020737
MMPLL,2, 20.577935, 49.020293
MMPLL,3, 20.576409, 48.793426
MMPLL,4, 20.192862, 48.793875
MM1B,8.036730
MOP,Map Open Position,0,0
IWH,Map Image Width/Height,3505,3138
