OziExplorer Map Data File Version 2.2
Pienny_topo.gif
C:\Slovakia\pienny_topo.gif
1 ,Map Code,
WGS 84,WGS 84, 0.0000, 0.0000,WGS 84
Reserved 1
Reserved 2
Magnetic Variation,,,E
Map Projection,Transverse Mercator,PolyCal,No,AutoCalOnly,No,BSBUseWPX,No
Point01,xy, 652, 473,in, deg, 49, 25,N, 20, 15,E, grid, , , ,N
Point02,xy, 2108, 473,in, deg, 49, 25,N, 20, 25,E, grid, , , ,N
Point03,xy, 3548, 475,in, deg, 49, 25,N, 20, 35,E, grid, , , ,N
Point04,xy, 655, 1576,in, deg, 49, 20,N, 20, 15,E, grid, , , ,N
Point05,xy, 2106, 1576,in, deg, 49, 20,N, 20, 25,E, grid, , , ,N
Point06,xy, 3548, 1579,in, deg, 49, 20,N, 20, 35,E, grid, , , ,N
Point07,xy, , ,in, deg, , ,N, , ,E, grid, , , ,N
Point08,xy, , ,in, deg, , ,N, , ,E, grid, , , ,N
Point09,xy, , ,in, deg, , ,N, , ,E, grid, , , ,N
Point10,xy, , ,in, deg, , ,, , ,, grid, , , ,
Point11,xy, , ,in, deg, , ,, , ,, grid, , , ,
Point12,xy, , ,in, deg, , ,, , ,, grid, , , ,
Point13,xy, , ,in, deg, , ,, , ,, grid, , , ,
Point14,xy, , ,in, deg, , ,, , ,, grid, , , ,
Point15,xy, , ,in, deg, , ,, , ,, grid, , , ,
Point16,xy, , ,in, deg, , ,, , ,, grid, , , ,
Point17,xy, , ,in, deg, , ,, , ,, grid, , , ,
Point18,xy, , ,in, deg, , ,, , ,, grid, , , ,
Point19,xy, , ,in, deg, , ,, , ,, grid, , , ,
Point20,xy, , ,in, deg, , ,, , ,, grid, , , ,
Point21,xy, , ,in, deg, , ,, , ,, grid, , , ,
Point22,xy, , ,in, deg, , ,, , ,, grid, , , ,
Point23,xy, , ,in, deg, , ,, , ,, grid, , , ,
Point24,xy, , ,in, deg, , ,, , ,, grid, , , ,
Point25,xy, , ,in, deg, , ,, , ,, grid, , , ,
Point26,xy, , ,in, deg, , ,, , ,, grid, , , ,
Point27,xy, , ,in, deg, , ,, , ,, grid, , , ,
Point28,xy, , ,in, deg, , ,, , ,, grid, , , ,
Point29,xy, , ,in, deg, , ,, , ,, grid, , , ,
Point30,xy, , ,in, deg, , ,, , ,, grid, , , ,
Projection Setup, 0.000000000, 21.000000000, 1.000000000, 500000.00, 0.00,,,,,
Map Feature = MF ; Map Comment = MC These follow if they exist
Track File = TF These follow if they exist
Moving Map Parameters = MM? These follow if they exist
MM0,Yes
MMPNUM,4
MMPXY,1,0,0
MMPXY,2,3824,0
MMPXY,3,3824,2555
MMPXY,4,0,2555
MMPLL,1, 20.174160, 49.452129
MMPLL,2, 20.615227, 49.452465
MMPLL,3, 20.614360, 49.259486
MMPLL,4, 20.175015, 49.259157
MM1B,8.359743
MOP,Map Open Position,0,0
IWH,Map Image Width/Height,3824,2555
