OziExplorer Map Data File Version 2.2
N_tatry_topo.gif
C:\Slovakia\n_tatry_topo.gif
1 ,Map Code,
WGS 84,WGS 84, 0.0000, 0.0000,WGS 84
Reserved 1
Reserved 2
Magnetic Variation,,,E
Map Projection,Transverse Mercator,PolyCal,No,AutoCalOnly,No,BSBUseWPX,No
Point01,xy, 2436, 1094,in, deg, 49, 5.0000,N, 19, 20.0000,E, grid, , , ,N
Point02,xy, 5790, 1096,in, deg, 49, 5.0000,N, 19, 40.0000,E, grid, , , ,N
Point03,xy, 1588, 3652,in, deg, 48, 55.0000,N, 19, 15.0000,E, grid, , , ,N
Point04,xy, 5794, 3650,in, deg, 48, 55.0000,N, 19, 40.0000,E, grid, , , ,N
Point05,xy, 9158, 3657,in, deg, 48, 55.0000,N, 20, 0.0000,E, grid, , , ,N
Point06,xy, 745, 6208,in, deg, 48, 45.0000,N, 19, 10.0000,E, grid, , , ,N
Point07,xy, 3278, 6199,in, deg, 48, 45.0000,N, 19, 25.0000,E, grid, , , ,N
Point08,xy, 4110, 4928,in, deg, 48, 50,N, 19, 30,E, grid, , , ,N
Point09,xy, 9157, 4934,in, deg, 48, 50,N, 20, 00,E, grid, , , ,N
Point10,xy, , ,in, deg, , ,, , ,, grid, , , ,
Point11,xy, , ,in, deg, , ,, , ,, grid, , , ,
Point12,xy, , ,in, deg, , ,, , ,, grid, , , ,
Point13,xy, , ,in, deg, , ,, , ,, grid, , , ,
Point14,xy, , ,in, deg, , ,, , ,, grid, , , ,
Point15,xy, , ,in, deg, , ,, , ,, grid, , , ,
Point16,xy, , ,in, deg, , ,, , ,, grid, , , ,
Point17,xy, , ,in, deg, , ,, , ,, grid, , , ,
Point18,xy, , ,in, deg, , ,, , ,, grid, , , ,
Point19,xy, , ,in, deg, , ,, , ,, grid, , , ,
Point20,xy, , ,in, deg, , ,, , ,, grid, , , ,
Point21,xy, , ,in, deg, , ,, , ,, grid, , , ,
Point22,xy, , ,in, deg, , ,, , ,, grid, , , ,
Point23,xy, , ,in, deg, , ,, , ,, grid, , , ,
Point24,xy, , ,in, deg, , ,, , ,, grid, , , ,
Point25,xy, , ,in, deg, , ,, , ,, grid, , , ,
Point26,xy, , ,in, deg, , ,, , ,, grid, , , ,
Point27,xy, , ,in, deg, , ,, , ,, grid, , , ,
Point28,xy, , ,in, deg, , ,, , ,, grid, , , ,
Point29,xy, , ,in, deg, , ,, , ,, grid, , , ,
Point30,xy, , ,in, deg, , ,, , ,, grid, , , ,
Projection Setup, 0.000000000, 21.000000000, 1.000000000, 500000.00, 0.00,,,,,
Map Feature = MF ; Map Comment = MC These follow if they exist
Track File = TF These follow if they exist
Moving Map Parameters = MM? These follow if they exist
MM0,Yes
MMPNUM,4
MMPXY,1,0,0
MMPXY,2,11111,0
MMPXY,3,11111,6708
MMPXY,4,0,6708
MMPLL,1, 19.090297, 49.153552
MMPLL,2, 20.197687, 49.153836
MMPLL,3, 20.191195, 48.716654
MMPLL,4, 19.093435, 48.716439
MM1B,7.267120
MOP,Map Open Position,0,0
IWH,Map Image Width/Height,11111,6708
