OziExplorer Map Data File Version 2.2
Spis.jpg
C:\Slovakia\scanned_1km\rotated\SPIS.jpg
1 ,Map Code,
WGS 84,WGS 84, 0.0000, 0.0000,WGS 84
Reserved 1
Reserved 2
Magnetic Variation,,,E
Map Projection,Transverse Mercator,PolyCal,No,AutoCalOnly,No,BSBUseWPX,No
Point01,xy, 1416, 174,in, deg, 49, 25,N, 20, 15,E, grid, , , ,N
Point02,xy, 3797, 146,in, deg, 49, 25,N, 20, 40,E, grid, , , ,N
Point03,xy, 5703, 117,in, deg, 49, 25,N, 21, 00,E, grid, , , ,N
Point04,xy, 484, 3819,in, deg, 49, 00,N, 20, 05,E, grid, , , ,N
Point05,xy, 3848, 3791,in, deg, 49, 00,N, 20, 40,E, grid, , , ,N
Point06,xy, 5770, 3763,in, deg, 49, 00,N, 21, 00,E, grid, , , ,N
Point07,xy, 500, 7456,in, deg, 48, 35,N, 20, 05,E, grid, , , ,N
Point08,xy, 3406, 7432,in, deg, 48, 35,N, 20, 35,E, grid, , , ,N
Point09,xy, 5828, 7404,in, deg, 48, 35,N, 21, 00,E, grid, , , ,N
Point10,xy, , ,in, deg, , ,, , ,, grid, , , ,
Point11,xy, , ,in, deg, , ,, , ,, grid, , , ,
Point12,xy, , ,in, deg, , ,, , ,, grid, , , ,
Point13,xy, , ,in, deg, , ,, , ,, grid, , , ,
Point14,xy, , ,in, deg, , ,, , ,, grid, , , ,
Point15,xy, , ,in, deg, , ,, , ,, grid, , , ,
Point16,xy, , ,in, deg, , ,, , ,, grid, , , ,
Point17,xy, , ,in, deg, , ,, , ,, grid, , , ,
Point18,xy, , ,in, deg, , ,, , ,, grid, , , ,
Point19,xy, , ,in, deg, , ,, , ,, grid, , , ,
Point20,xy, , ,in, deg, , ,, , ,, grid, , , ,
Point21,xy, , ,in, deg, , ,, , ,, grid, , , ,
Point22,xy, , ,in, deg, , ,, , ,, grid, , , ,
Point23,xy, , ,in, deg, , ,, , ,, grid, , , ,
Point24,xy, , ,in, deg, , ,, , ,, grid, , , ,
Point25,xy, , ,in, deg, , ,, , ,, grid, , , ,
Point26,xy, , ,in, deg, , ,, , ,, grid, , , ,
Point27,xy, , ,in, deg, , ,, , ,, grid, , , ,
Point28,xy, , ,in, deg, , ,, , ,, grid, , , ,
Point29,xy, , ,in, deg, , ,, , ,, grid, , , ,
Point30,xy, , ,in, deg, , ,, , ,, grid, , , ,
Projection Setup, 0.000000000, 21.000000000, 1.000000000, 500000.00, 0.00,,,,,
Map Feature = MF ; Map Comment = MC These follow if they exist
Track File = TF These follow if they exist
Moving Map Parameters = MM? These follow if they exist
MM0,Yes
MMPNUM,4
MMPXY,1,0,0
MMPXY,2,6192,0
MMPXY,3,6192,8066
MMPXY,4,0,8066
MMPLL,1, 20.002328, 49.437068
MMPLL,2, 21.085679, 49.429496
MMPLL,3, 21.060297, 48.506550
MMPLL,4, 19.996762, 48.514039
MM1B,12.684721
MOP,Map Open Position,0,0
IWH,Map Image Width/Height,6192,8066
