OziExplorer Map Data File Version 2.2
Orava1.jpg
C:\Slovakia\scanned_1km\rotated\ORAVA1.jpg
1 ,Map Code,
WGS 84,WGS 84, 0.0000, 0.0000,WGS 84
Reserved 1
Reserved 2
Magnetic Variation,,,E
Map Projection,Transverse Mercator,PolyCal,No,AutoCalOnly,No,BSBUseWPX,No
Point01,xy, 1561, 743,in, deg, 49, 30,N, 19, 15,E, grid, , , ,N
Point02,xy, 2989, 748,in, deg, 49, 30,N, 19, 30,E, grid, , , ,N
Point03,xy, 3941, 747,in, deg, 49, 30,N, 19, 40,E, grid, , , ,N
Point04,xy, 586, 4370,in, deg, 49, 05,N, 19, 05,E, grid, , , ,N
Point05,xy, 2984, 4383,in, deg, 49, 05,N, 19, 30,E, grid, , , ,N
Point06,xy, 5859, 4380,in, deg, 49, 05,N, 20, 00,E, grid, , , ,N
Point07,xy, 557, 8011,in, deg, 48, 40,N, 19, 05,E, grid, , , ,N
Point08,xy, 2977, 7292,in, deg, 48, 45,N, 19, 30,E, grid, , , ,N
Point09,xy, 5874, 7291,in, deg, 48, 45,N, 20, 00,E, grid, , , ,N
Point10,xy, , ,in, deg, , ,, , ,, grid, , , ,
Point11,xy, , ,in, deg, , ,, , ,, grid, , , ,
Point12,xy, , ,in, deg, , ,, , ,, grid, , , ,
Point13,xy, , ,in, deg, , ,, , ,, grid, , , ,
Point14,xy, , ,in, deg, , ,, , ,, grid, , , ,
Point15,xy, , ,in, deg, , ,, , ,, grid, , , ,
Point16,xy, , ,in, deg, , ,, , ,, grid, , , ,
Point17,xy, , ,in, deg, , ,, , ,, grid, , , ,
Point18,xy, , ,in, deg, , ,, , ,, grid, , , ,
Point19,xy, , ,in, deg, , ,, , ,, grid, , , ,
Point20,xy, , ,in, deg, , ,, , ,, grid, , , ,
Point21,xy, , ,in, deg, , ,, , ,, grid, , , ,
Point22,xy, , ,in, deg, , ,, , ,, grid, , , ,
Point23,xy, , ,in, deg, , ,, , ,, grid, , , ,
Point24,xy, , ,in, deg, , ,, , ,, grid, , , ,
Point25,xy, , ,in, deg, , ,, , ,, grid, , , ,
Point26,xy, , ,in, deg, , ,, , ,, grid, , , ,
Point27,xy, , ,in, deg, , ,, , ,, grid, , , ,
Point28,xy, , ,in, deg, , ,, , ,, grid, , , ,
Point29,xy, , ,in, deg, , ,, , ,, grid, , , ,
Point30,xy, , ,in, deg, , ,, , ,, grid, , , ,
Projection Setup, 0.000000000, 21.000000000, 1.000000000, 500000.00, 0.00,,,,,
Map Feature = MF ; Map Comment = MC These follow if they exist
Track File = TF These follow if they exist
Moving Map Parameters = MM? These follow if they exist
MM0,Yes
MMPNUM,4
MMPXY,1,0,0
MMPXY,2,6212,0
MMPXY,3,6212,8104
MMPXY,4,0,8104
MMPLL,1, 18.975055, 49.583594
MMPLL,2, 20.065493, 49.585019
MMPLL,3, 20.057582, 48.656503
MMPLL,4, 18.987315, 48.655292
MM1B,12.688182
MOP,Map Open Position,0,0
IWH,Map Image Width/Height,6212,8104
