OziExplorer Map Data File Version 2.2
Kysuce.jpg
C:\Slovakia\scanned_1km\rotated\KYSUCE.jpg
1 ,Map Code,
WGS 84,WGS 84, 0.0000, 0.0000,WGS 84
Reserved 1
Reserved 2
Magnetic Variation,,,E
Map Projection,Transverse Mercator,PolyCal,No,AutoCalOnly,No,BSBUseWPX,No
Point01,xy, 984, 1795,in, deg, 49, 20,N, 18, 10,E, grid, , , ,N
Point02,xy, 3381, 358,in, deg, 49, 30,N, 18, 35,E, grid, , , ,N
Point03,xy, 5762, 362,in, deg, 49, 30,N, 19, 00,E, grid, , , ,N
Point04,xy, 476, 4687,in, deg, 49, 00,N, 18, 05,E, grid, , , ,N
Point05,xy, 3357, 4716,in, deg, 49, 00,N, 18, 35,E, grid, , , ,N
Point06,xy, 5764, 4729,in, deg, 49, 00,N, 19, 00,E, grid, , , ,N
Point07,xy, 433, 7591,in, deg, 48, 40,N, 18, 05,E, grid, , , ,N
Point08,xy, 3335, 7624,in, deg, 48, 40,N, 18, 35,E, grid, , , ,N
Point09,xy, 5753, 7642,in, deg, 48, 40,N, 19, 00,E, grid, , , ,N
Point10,xy, , ,in, deg, , ,, , ,, grid, , , ,
Point11,xy, , ,in, deg, , ,, , ,, grid, , , ,
Point12,xy, , ,in, deg, , ,, , ,, grid, , , ,
Point13,xy, , ,in, deg, , ,, , ,, grid, , , ,
Point14,xy, , ,in, deg, , ,, , ,, grid, , , ,
Point15,xy, , ,in, deg, , ,, , ,, grid, , , ,
Point16,xy, , ,in, deg, , ,, , ,, grid, , , ,
Point17,xy, , ,in, deg, , ,, , ,, grid, , , ,
Point18,xy, , ,in, deg, , ,, , ,, grid, , , ,
Point19,xy, , ,in, deg, , ,, , ,, grid, , , ,
Point20,xy, , ,in, deg, , ,, , ,, grid, , , ,
Point21,xy, , ,in, deg, , ,, , ,, grid, , , ,
Point22,xy, , ,in, deg, , ,, , ,, grid, , , ,
Point23,xy, , ,in, deg, , ,, , ,, grid, , , ,
Point24,xy, , ,in, deg, , ,, , ,, grid, , , ,
Point25,xy, , ,in, deg, , ,, , ,, grid, , , ,
Point26,xy, , ,in, deg, , ,, , ,, grid, , , ,
Point27,xy, , ,in, deg, , ,, , ,, grid, , , ,
Point28,xy, , ,in, deg, , ,, , ,, grid, , , ,
Point29,xy, , ,in, deg, , ,, , ,, grid, , , ,
Point30,xy, , ,in, deg, , ,, , ,, grid, , , ,
Projection Setup, 0.000000000, 21.000000000, 1.000000000, 500000.00, 0.00,,,,,
Map Feature = MF ; Map Comment = MC These follow if they exist
Track File = TF These follow if they exist
Moving Map Parameters = MM? These follow if they exist
MM0,Yes
MMPNUM,4
MMPXY,1,0,0
MMPXY,2,6205,0
MMPXY,3,6205,8091
MMPXY,4,0,8091
MMPLL,1, 17.990007, 49.536564
MMPLL,2, 19.077544, 49.542267
MMPLL,3, 19.077245, 48.614495
MMPLL,4, 18.009779, 48.609204
MM1B,12.682001
MOP,Map Open Position,0,0
IWH,Map Image Width/Height,6205,8091
