OziExplorer Map Data File Version 2.2
C:\Slovakia\scanned_500m\rotated\DOMICA.jpg
1 ,Map Code,
WGS 84,WGS 84, 0.0000, 0.0000,WGS 84
Reserved 1
Reserved 2
Magnetic Variation,,,W
Map Projection,Transverse Mercator,PolyCal,No,AutoCalOnly,No,BSBUseWPX,No
Point01,xy, 219, 117,in, deg, 48, 41.0000,N, 20, 17.0000,E, grid, , , ,N
Point02,xy, 3692, 133,in, deg, 48, 41.0000,N, 20, 35.0000,E, grid, , , ,N
Point03,xy, 6972, 132,in, deg, 48, 41.0000,N, 20, 52.0000,E, grid, , , ,N
Point04,xy, 206, 2161,in, deg, 48, 34.0000,N, 20, 17.0000,E, grid, , , ,N
Point05,xy, 3688, 2177,in, deg, 48, 34.0000,N, 20, 35.0000,E, grid, , , ,N
Point06,xy, 6975, 2173,in, deg, 48, 34.0000,N, 20, 52.0000,E, grid, , , ,N
Point07,xy, 190, 4496,in, deg, 48, 26.0000,N, 20, 17.0000,E, grid, , , ,N
Point08,xy, 3683, 4513,in, deg, 48, 26.0000,N, 20, 35.0000,E, grid, , , ,N
Point09,xy, 6983, 4508,in, deg, 48, 26.0000,N, 20, 52.0000,E, grid, , , ,N
Point10,xy, , ,in, deg, , ,N, , ,W, grid, , , ,N
Point11,xy, , ,in, deg, , ,N, , ,W, grid, , , ,N
Point12,xy, , ,in, deg, , ,N, , ,W, grid, , , ,N
Point13,xy, , ,in, deg, , ,N, , ,W, grid, , , ,N
Point14,xy, , ,in, deg, , ,N, , ,W, grid, , , ,N
Point15,xy, , ,in, deg, , ,N, , ,W, grid, , , ,N
Point16,xy, , ,in, deg, , ,N, , ,W, grid, , , ,N
Point17,xy, , ,in, deg, , ,N, , ,W, grid, , , ,N
Point18,xy, , ,in, deg, , ,N, , ,W, grid, , , ,N
Point19,xy, , ,in, deg, , ,N, , ,W, grid, , , ,N
Point20,xy, , ,in, deg, , ,N, , ,W, grid, , , ,N
Point21,xy, , ,in, deg, , ,N, , ,W, grid, , , ,N
Point22,xy, , ,in, deg, , ,N, , ,W, grid, , , ,N
Point23,xy, , ,in, deg, , ,N, , ,W, grid, , , ,N
Point24,xy, , ,in, deg, , ,N, , ,W, grid, , , ,N
Point25,xy, , ,in, deg, , ,N, , ,W, grid, , , ,N
Point26,xy, , ,in, deg, , ,N, , ,W, grid, , , ,N
Point27,xy, , ,in, deg, , ,N, , ,W, grid, , , ,N
Point28,xy, , ,in, deg, , ,N, , ,W, grid, , , ,N
Point29,xy, , ,in, deg, , ,N, , ,W, grid, , , ,N
Point30,xy, , ,in, deg, , ,N, , ,W, grid, , , ,N
Projection Setup, 0.000000000, 21.000000000, 1.000000000, 500000.00, 0.00,,,,,
Map Feature = MF ; Map Comment = MC These follow if they exist
Track File = TF These follow if they exist
Moving Map Parameters = MM? These follow if they exist
MM0,Yes
MMPNUM,4
MMPXY,1,0,0
MMPXY,2,7153,0
MMPXY,3,7153,4680
MMPXY,4,0,4680
MMPLL,1, 20.264476, 48.690025
MMPLL,2, 20.882231, 48.690826
MMPLL,3, 20.881456, 48.423600
MMPLL,4, 20.266946, 48.422813
MM1B,6.355909
MOP,Map Open Position,0,0
IWH,Map Image Width/Height,7153,4680
