OziExplorer Map Data File Version 2.2
20-21.gif
C:\Slovakia\scaned_2km\20-21.gif
1 ,Map Code,
WGS 84,WGS 84, 0.0000, 0.0000,WGS 84
Reserved 1
Reserved 2
Magnetic Variation,,,E
Map Projection,Transverse Mercator,PolyCal,No,AutoCalOnly,No,BSBUseWPX,No
Point01,xy, 147, 955,in, deg, 48, 55.299,N, 20, 53.238,E, grid, , , ,N
Point02,xy, 832, 888,in, deg, 48, 55.677,N, 21, 02.778,E, grid, , , ,N
Point03,xy, 286, 2400,in, deg, 48, 41.924,N, 20, 54.226,E, grid, , , ,N
Point04,xy, 745, 2451,in, deg, 48, 41.354,N, 21, 00.605,E, grid, , , ,N
Point05,xy, 249, 3064,in, deg, 48, 35.842,N, 20, 53.305,E, grid, , , ,N
Point06,xy, 732, 3024,in, deg, 48, 36.099,N, 21, 00.086,E, grid, , , ,N
Point07,xy, , ,in, deg, , ,N, , ,E, grid, , , ,N
Point08,xy, , ,in, deg, , ,N, , ,E, grid, , , ,N
Point09,xy, , ,in, deg, , ,N, , ,E, grid, , , ,N
Point10,xy, , ,in, deg, , ,, , ,, grid, , , ,
Point11,xy, , ,in, deg, , ,, , ,, grid, , , ,
Point12,xy, , ,in, deg, , ,, , ,, grid, , , ,
Point13,xy, , ,in, deg, , ,, , ,, grid, , , ,
Point14,xy, , ,in, deg, , ,, , ,, grid, , , ,
Point15,xy, , ,in, deg, , ,, , ,, grid, , , ,
Point16,xy, , ,in, deg, , ,, , ,, grid, , , ,
Point17,xy, , ,in, deg, , ,, , ,, grid, , , ,
Point18,xy, , ,in, deg, , ,, , ,, grid, , , ,
Point19,xy, , ,in, deg, , ,, , ,, grid, , , ,
Point20,xy, , ,in, deg, , ,, , ,, grid, , , ,
Point21,xy, , ,in, deg, , ,, , ,, grid, , , ,
Point22,xy, , ,in, deg, , ,, , ,, grid, , , ,
Point23,xy, , ,in, deg, , ,, , ,, grid, , , ,
Point24,xy, , ,in, deg, , ,, , ,, grid, , , ,
Point25,xy, , ,in, deg, , ,, , ,, grid, , , ,
Point26,xy, , ,in, deg, , ,, , ,, grid, , , ,
Point27,xy, , ,in, deg, , ,, , ,, grid, , , ,
Point28,xy, , ,in, deg, , ,, , ,, grid, , , ,
Point29,xy, , ,in, deg, , ,, , ,, grid, , , ,
Point30,xy, , ,in, deg, , ,, , ,, grid, , , ,
Projection Setup, 0.000000000, 21.000000000, 1.000000000, 500000.00, 0.00,,,,,
Map Feature = MF ; Map Comment = MC These follow if they exist
Track File = TF These follow if they exist
Moving Map Parameters = MM? These follow if they exist
MM0,Yes
MMPNUM,4
MMPXY,1,0,0
MMPXY,2,4620,0
MMPXY,3,4620,3461
MMPXY,4,0,3461
MMPLL,1, 20.862255, 49.068342
MMPLL,2, 21.939601, 49.042004
MMPLL,3, 21.893364, 48.511865
MMPLL,4, 20.827289, 48.537800
MM1B,17.040641
MOP,Map Open Position,0,0
IWH,Map Image Width/Height,4620,3461
