OziExplorer Map Data File Version 2.2
16-17.gif
C:\Documents and Settings\Nagornykh Andrey\Мои документы\Mapy\Slovakia\scaned_2km\16-17.gif
1 ,Map Code,
WGS 84,WGS 84, 0.0000, 0.0000,WGS 84
Reserved 1
Reserved 2
Magnetic Variation,,,E
Map Projection,Transverse Mercator,PolyCal,No,AutoCalOnly,No,BSBUseWPX,No
Point01,xy, 1241, 657,in, deg, 48, 48.6460,N, 19, 05.7350,E, grid, , , ,N
Point02,xy, 2710, 621,in, deg, 48, 48.8110,N, 19, 26.3580,E, grid, , , ,N
Point03,xy, 3515, 688,in, deg, 48, 48.0950,N, 19, 37.7130,E, grid, , , ,N
Point04,xy, 1542, 1148,in, deg, 48, 44.1070,N, 19, 09.8310,E, grid, , , ,N
Point05,xy, 3393, 1197,in, deg, 48, 43.4060,N, 19, 35.7250,E, grid, , , ,N
Point06,xy, 1484, 1579,in, deg, 48, 40.2050,N, 19, 8.9050,E, grid, , , ,N
Point07,xy, 2639, 1529,in, deg, 48, 40.4770,N, 19, 25.0000,E, grid, , , ,N
Point08,xy, , ,in, deg, , ,N, , ,E, grid, , , ,N
Point09,xy, , ,in, deg, , ,N, , ,E, grid, , , ,N
Point10,xy, , ,in, deg, , ,N, , ,W, grid, , , ,N
Point11,xy, , ,in, deg, , ,N, , ,W, grid, , , ,N
Point12,xy, , ,in, deg, , ,N, , ,W, grid, , , ,N
Point13,xy, , ,in, deg, , ,N, , ,W, grid, , , ,N
Point14,xy, , ,in, deg, , ,N, , ,W, grid, , , ,N
Point15,xy, , ,in, deg, , ,N, , ,W, grid, , , ,N
Point16,xy, , ,in, deg, , ,N, , ,W, grid, , , ,N
Point17,xy, , ,in, deg, , ,N, , ,W, grid, , , ,N
Point18,xy, , ,in, deg, , ,N, , ,W, grid, , , ,N
Point19,xy, , ,in, deg, , ,N, , ,W, grid, , , ,N
Point20,xy, , ,in, deg, , ,N, , ,W, grid, , , ,N
Point21,xy, , ,in, deg, , ,N, , ,W, grid, , , ,N
Point22,xy, , ,in, deg, , ,N, , ,W, grid, , , ,N
Point23,xy, , ,in, deg, , ,N, , ,W, grid, , , ,N
Point24,xy, , ,in, deg, , ,N, , ,W, grid, , , ,N
Point25,xy, , ,in, deg, , ,N, , ,W, grid, , , ,N
Point26,xy, , ,in, deg, , ,N, , ,W, grid, , , ,N
Point27,xy, , ,in, deg, , ,N, , ,W, grid, , , ,N
Point28,xy, , ,in, deg, , ,N, , ,W, grid, , , ,N
Point29,xy, , ,in, deg, , ,N, , ,W, grid, , , ,N
Point30,xy, , ,in, deg, , ,N, , ,W, grid, , , ,N
Projection Setup, 0.000000000, 21.000000000, 1.000000000, 500000.00, 0.00,,,,,
Map Feature = MF ; Map Comment = MC These follow if they exist
Track File = TF These follow if they exist
Moving Map Parameters = MM? These follow if they exist
MM0,Yes
MMPNUM,4
MMPXY,1,0,0
MMPXY,2,4620,0
MMPXY,3,4620,3461
MMPXY,4,0,3461
MMPLL,1, 18.808531, 48.913042
MMPLL,2, 19.891411, 48.903051
MMPLL,3, 19.864821, 48.374036
MMPLL,4, 18.793216, 48.383958
MM1B,17.169178
MOP,Map Open Position,0,0
IWH,Map Image Width/Height,4620,3461
