2.540000000000
0.000000000000
0.000000000000
-2.540000000000
332040.832397425430
4638496.221991883600
