2.438400000000
0.000000000000
0.000000000000
-2.438400000000
710708.606508083292
5140307.195812028830
