2.438400
0.000000
0.000000
-2.438400
267380.804327
4862585.706336
