2.438400
0.000000
0.000000
-2.438400
769365.861694
3600344.455115
