2.438400000000
0.000000000000
0.000000000000
-2.438400000000
569296.770472128759
3652210.266377659515
