2.43840000
0.00000000
0.00000000
-2.43840000
276030.17704065
2158178.29225237
