!Table
!Version 300

Definition Table
  File "O44121a1.tif"
  Type "Raster"
  (650016.844160,4887485.009107) (0.000000,0.000000) Label "Pt 1",
  (660355.660160,4887485.009107) (4240.000000,0.000000) Label "Pt 2",
  (650016.844160,4873364.234707) (0.000000,5791.000000) Label "Pt 3"
  CoordSys Earth Projection 8, 62, "m", -123, 0, 0.9996, 500000, 0
