!Table:
!Version 300
!Charset WindowsLatin1

Definition Table
  File "O43109B6.TIF"
  Type "RASTER"
  (600545.5701886646 ,4790213.7223250186) (0,0) Label "Pt 1.1" ,
  (600548.00858866458 ,4790213.7223250186) (1,0) Label "Pt 1.2" ,
  (600545.5701886646 ,4790211.2839250183) (0,1) Label "Pt 1.3" ,
  (600789.41018866457 ,4789969.8823250188) (100,100) Label "Pt 2.1" ,
  (600789.41018866457 ,4790213.7223250186) (100,0) Label "Pt 2.2" ,
  (600545.5701886646 ,4789969.8823250188) (0,100) Label "Pt 2.3" ,
  (601033.25018866465 ,4789726.0423250189) (200,200) Label "Pt 3.1" ,
  (601033.25018866465 ,4790213.7223250186) (200,0) Label "Pt 3.2" ,
  (600545.5701886646 ,4789726.0423250189) (0,200) Label "Pt 3.3"
  CoordSys Earth Projection 8, 62,"m",-111, 0, 0.9996, 500000, 0
  Units "m"
  RasterStyle 4 1
  RasterStyle 5 2
