2.438400000000
0.000000000000
0.000000000000
-2.438400000000
552236.682412251600
4456486.326393254100
