2.438400000000
0.000000000000
0.000000000000
-2.438400000000
499234.502339597090
4220252.653426422700
