4.064
0.00000000
0.00000000
-4.064
498783.19195151
4400530.35312271
