10.52931072935462
0.00000000000000
0.00000000000000
-10.52931072935462
274721.27932398528000
454912.39923585765000
